BEGIN:VCALENDAR
VERSION:2.0
PRODID:-//Carroll County Humane Society - ECPv6.15.11//NONSGML v1.0//EN
CALSCALE:GREGORIAN
METHOD:PUBLISH
X-ORIGINAL-URL:https://www.carrollcountyhumane.org
X-WR-CALDESC:Events for Carroll County Humane Society
REFRESH-INTERVAL;VALUE=DURATION:PT1H
X-Robots-Tag:noindex
X-PUBLISHED-TTL:PT1H
BEGIN:VTIMEZONE
TZID:America/New_York
BEGIN:DAYLIGHT
TZOFFSETFROM:-0500
TZOFFSETTO:-0400
TZNAME:EDT
DTSTART:20220313T070000
END:DAYLIGHT
BEGIN:STANDARD
TZOFFSETFROM:-0400
TZOFFSETTO:-0500
TZNAME:EST
DTSTART:20221106T060000
END:STANDARD
BEGIN:DAYLIGHT
TZOFFSETFROM:-0500
TZOFFSETTO:-0400
TZNAME:EDT
DTSTART:20230312T070000
END:DAYLIGHT
BEGIN:STANDARD
TZOFFSETFROM:-0400
TZOFFSETTO:-0500
TZNAME:EST
DTSTART:20231105T060000
END:STANDARD
BEGIN:DAYLIGHT
TZOFFSETFROM:-0500
TZOFFSETTO:-0400
TZNAME:EDT
DTSTART:20240310T070000
END:DAYLIGHT
BEGIN:STANDARD
TZOFFSETFROM:-0400
TZOFFSETTO:-0500
TZNAME:EST
DTSTART:20241103T060000
END:STANDARD
END:VTIMEZONE
BEGIN:VEVENT
DTSTART;TZID=America/New_York:20230626T143000
DTEND;TZID=America/New_York:20230626T160000
DTSTAMP:20260422T105741
CREATED:20230622T050458Z
LAST-MODIFIED:20230622T050458Z
UID:3692-1687789800-1687795200@www.carrollcountyhumane.org
SUMMARY:Annual Business Meeting-- and Tea Party!
DESCRIPTION:Light tea-time refreshments and a short business meeting are in store at CCHS headquarters on Sunday afternoon\, June 25th.
URL:https://www.carrollcountyhumane.org/event/annual-business-meeting-and-tea-party/
LOCATION:CCHS Headquarters on Tuggle Street\, 102 TUGGLE STREET\, CARROLLTON\, Georgia\, 30117
ORGANIZER;CN="CCHS - Carroll County Humane Society":MAILTO:cchs@carrollcountyhumane.org
END:VEVENT
END:VCALENDAR