BEGIN:VCALENDAR
VERSION:2.0
PRODID:-//Carroll County Humane Society - ECPv6.15.11//NONSGML v1.0//EN
CALSCALE:GREGORIAN
METHOD:PUBLISH
X-WR-CALNAME:Carroll County Humane Society
X-ORIGINAL-URL:https://www.carrollcountyhumane.org
X-WR-CALDESC:Events for Carroll County Humane Society
REFRESH-INTERVAL;VALUE=DURATION:PT1H
X-Robots-Tag:noindex
X-PUBLISHED-TTL:PT1H
BEGIN:VTIMEZONE
TZID:America/New_York
BEGIN:DAYLIGHT
TZOFFSETFROM:-0500
TZOFFSETTO:-0400
TZNAME:EDT
DTSTART:20180311T070000
END:DAYLIGHT
BEGIN:STANDARD
TZOFFSETFROM:-0400
TZOFFSETTO:-0500
TZNAME:EST
DTSTART:20181104T060000
END:STANDARD
BEGIN:DAYLIGHT
TZOFFSETFROM:-0500
TZOFFSETTO:-0400
TZNAME:EDT
DTSTART:20190310T070000
END:DAYLIGHT
BEGIN:STANDARD
TZOFFSETFROM:-0400
TZOFFSETTO:-0500
TZNAME:EST
DTSTART:20191103T060000
END:STANDARD
BEGIN:DAYLIGHT
TZOFFSETFROM:-0500
TZOFFSETTO:-0400
TZNAME:EDT
DTSTART:20200308T070000
END:DAYLIGHT
BEGIN:STANDARD
TZOFFSETFROM:-0400
TZOFFSETTO:-0500
TZNAME:EST
DTSTART:20201101T060000
END:STANDARD
END:VTIMEZONE
BEGIN:VEVENT
DTSTART;TZID=America/New_York:20191214T100000
DTEND;TZID=America/New_York:20191214T150000
DTSTAMP:20260420T234422
CREATED:20191216T005939Z
LAST-MODIFIED:20191216T005939Z
UID:1022-1576317600-1576335600@www.carrollcountyhumane.org
SUMMARY:Santa Paws 2019
DESCRIPTION:Santa will be at Pet Supplies Plus on Saturday\, Dec. 14 and Sunday\, Dec. 15 from 10 until 3 each day. Bring your pets to meet Santa and have their pictures taken with the jolly old elf! \nPrices for the photo sessions are as follows: \nthumb drive containing the entire photo session $12\nphoto session loaded onto your own thumb drive 8\nsingle 5 x 7 print 5\ncombo pack– drive plus print 15 \nAll pets are welcome. So far this year\, Santa has posed with loads of dogs and several cats\, but also two crabs (yes\, crabs!) and two snakes. So bring your pets of all shapes and sizes. \nSanta Paws is a CCHS fundraiser. We accept cash\, checks\, and credit cards.
URL:https://www.carrollcountyhumane.org/event/santa-paws-2019/
LOCATION:Pet Supplies Plus Carrollton\, 1301 S Park St\, Carrollton\, GA\, 30117\, United States
END:VEVENT
BEGIN:VEVENT
DTSTART;TZID=America/New_York:20191210T180000
DTEND;TZID=America/New_York:20191210T200000
DTSTAMP:20260420T234422
CREATED:20191207T022953Z
LAST-MODIFIED:20191216T024237Z
UID:1063-1576000800-1576008000@www.carrollcountyhumane.org
SUMMARY:CCHS Winter Quarterly Meeting 2019
DESCRIPTION:The humane society’s winter quarterly meeting\, which will be our annual volunteer/supporter appreciation meeting\, will be held on Tuesday\, Dec. 10\, at 6 PM at our headquarters on Tuggle Street. Come enjoy a meal with your fellow animal lovers and hear about plans for 2020. Next year will be our 50th anniversary as an organization\, so we’ll be celebrating all year long. We would love for you to be a part of it all. \nAdmission is free and everyone is welcome. Parking is available in the big lot off Maple Street behind our building\, but please do not block access to the ice machine there. \nSee you on Tuesday!
URL:https://www.carrollcountyhumane.org/event/cchs-winter-quarterly-meeting-2019/
LOCATION:CCHS Headquarters on Tuggle Street\, 102 TUGGLE STREET\, CARROLLTON\, Georgia\, 30117
END:VEVENT
END:VCALENDAR