BEGIN:VCALENDAR
VERSION:2.0
PRODID:-//Carroll County Humane Society - ECPv6.15.11//NONSGML v1.0//EN
CALSCALE:GREGORIAN
METHOD:PUBLISH
X-WR-CALNAME:Carroll County Humane Society
X-ORIGINAL-URL:https://www.carrollcountyhumane.org
X-WR-CALDESC:Events for Carroll County Humane Society
REFRESH-INTERVAL;VALUE=DURATION:PT1H
X-Robots-Tag:noindex
X-PUBLISHED-TTL:PT1H
BEGIN:VTIMEZONE
TZID:America/New_York
BEGIN:DAYLIGHT
TZOFFSETFROM:-0500
TZOFFSETTO:-0400
TZNAME:EDT
DTSTART:20230312T070000
END:DAYLIGHT
BEGIN:STANDARD
TZOFFSETFROM:-0400
TZOFFSETTO:-0500
TZNAME:EST
DTSTART:20231105T060000
END:STANDARD
BEGIN:DAYLIGHT
TZOFFSETFROM:-0500
TZOFFSETTO:-0400
TZNAME:EDT
DTSTART:20240310T070000
END:DAYLIGHT
BEGIN:STANDARD
TZOFFSETFROM:-0400
TZOFFSETTO:-0500
TZNAME:EST
DTSTART:20241103T060000
END:STANDARD
BEGIN:DAYLIGHT
TZOFFSETFROM:-0500
TZOFFSETTO:-0400
TZNAME:EDT
DTSTART:20250309T070000
END:DAYLIGHT
BEGIN:STANDARD
TZOFFSETFROM:-0400
TZOFFSETTO:-0500
TZNAME:EST
DTSTART:20251102T060000
END:STANDARD
END:VTIMEZONE
BEGIN:VEVENT
DTSTART;TZID=America/New_York:20240403T180000
DTEND;TZID=America/New_York:20240403T193000
DTSTAMP:20260420T073109
CREATED:20240321T023537Z
LAST-MODIFIED:20240321T135143Z
UID:3875-1712167200-1712172600@www.carrollcountyhumane.org
SUMMARY:Spring 2024 Quarterly Membership Meeting
DESCRIPTION:The CCHS spring quarterly meeting will be held on Wednesday\, April 3. Join us at 102 Tuggle Street\, on the corner of Maple and Tuggle\, at 6 PM\n\nOur meeting will feature a wonderful guest speaker– Dee Wilkie\, leader trainer and owner of the local dog training business Clever Canidae. Dee will be talking about how to deal with fearful or anxious shelter dogs as a volunteer\, and answering questions about other training/dog behavior situations. In addition to Dee’s presentation\, we’ll have information on CCHS programs and upcoming events and how you can get involved. We’ll provide light refreshments. Admission is free and you do not have to be a current member of the humane society to attend.\n\n\n\nParking is available in the large parking lot directly behind our building\, with an entrance from Maple Street. Please do not park the ice machine in the lot.
URL:https://www.carrollcountyhumane.org/event/spring-2024-quarterly-membership-meeting/
LOCATION:Georgia
ORGANIZER;CN="CCHS - Carroll County Humane Society":MAILTO:cchs@carrollcountyhumane.org
END:VEVENT
END:VCALENDAR